BEGIN:VCALENDAR
VERSION:2.0
PRODID:-//LSLA//Event Calendar//EN
BEGIN:VEVENT
UID:69ecbfd857e93
DTSTAMP:20260425T142128
DTSTART:20260512T184500
DTEND:20260512T230000
SUMMARY:LSLA AGM Dinner 2026
DESCRIPTION:All members and their guests are invited to the LSLA AGM Dinner, which will once again be held at the offices of Hogan Lovells International LLP on the evening of Tuesday 12 May 2026.
LOCATION:
END:VEVENT
END:VCALENDAR