BEGIN:VCALENDAR
VERSION:2.0
PRODID:-//LSLA//Event Calendar//EN
BEGIN:VEVENT
UID:69ecbeb7848cd
DTSTAMP:20260425T141639
DTSTART:20260521T180000
DTEND:20260521T210000
SUMMARY:LSLA 2026 Summer Lecture Series
DESCRIPTION:The LSLA is delighted to announce details of our 2026 Summer Lecture Series, which will consist of talks and panel discussions with eminent practitioners on topical subjects of legal interest.
LOCATION:
END:VEVENT
END:VCALENDAR